BEGIN:VCALENDAR
VERSION:2.0
PRODID:-//Plone.org//NONSGML plone.app.event//EN
X-WR-TIMEZONE:Europe/Rome
BEGIN:VEVENT
SUMMARY:La Comunicazione aumentativa alternativa all'interno di un reparto
  di pediatria
DTSTART;VALUE=DATE-TIME:20101022T063000Z
DTEND;VALUE=DATE-TIME:20101022T160000Z
DTSTAMP;VALUE=DATE-TIME:20260420T151151Z
UID:4903b7d80f37b2f69b99a006e268232a@127.0.0.1:8095
ATTENDEE;CN="Pediatri,neuropsichiatri, psicologi, fisioterapisti, logopedi
 sti, terapisti della neuropsicomotricità dell’età evolutiva, operatori
  socio sanitari, terapisti occupazionali, tecnici della riabilitazione psi
 chiatrica,ostetriche, infermieri, infermieri pediatrici, ASV, volontari ed
  a altri operatori del settore";ROLE=REQ-PARTICIPANT:Pediatri,neuropsichia
 tri, psicologi, fisioterapisti, logopedisti, terapisti della neuropsicomot
 ricità dell’età evolutiva, operatori socio sanitari, terapisti occupaz
 ionali, tecnici della riabilitazione psichiatrica,ostetriche, infermieri, 
 infermieri pediatrici, ASV, volontari ed a altri operatori del settore
CATEGORIES:corso
CONTACT:Elisa Amadori\, 0533 723169\, l.bissi@ausl.fe.it
CREATED;VALUE=DATE-TIME:20101012T123709Z
LAST-MODIFIED;VALUE=DATE-TIME:20101111T105427Z
LOCATION:Lagosanto\, Ospedale del Delta
URL:https://www.ausl.bologna.it/eventi/archivio/auslevent.2010-10-12.91721
 75988
END:VEVENT
END:VCALENDAR
