BEGIN:VCALENDAR
VERSION:2.0
PRODID:-//Plone.org//NONSGML plone.app.event//EN
X-WR-TIMEZONE:Europe/Rome
BEGIN:VEVENT
SUMMARY:All’Ospedale di Vergato si legge ad alta voce
DTSTART;VALUE=DATE-TIME:20101014T153000Z
DTEND;VALUE=DATE-TIME:20101014T173000Z
DTSTAMP;VALUE=DATE-TIME:20260420T150611Z
UID:884ef561ebdde10f6f5abf2c1b9660dc@127.0.0.1:8095
CREATED;VALUE=DATE-TIME:20101012T073618Z
DESCRIPTION:Giovedì 14 ottobre secondo appuntamento con la rassegna di le
 tture negli ospedali dell’Azienda Usl di Bologna\, Incontrarsi leggendo 
 ad alta voce
LAST-MODIFIED;VALUE=DATE-TIME:20101018T074805Z
LOCATION:Vergato\, Ospedale Civile
URL:https://www.ausl.bologna.it/eventi/archivio/auslevent.2010-10-12.88991
 35805
END:VEVENT
END:VCALENDAR
