BEGIN:VCALENDAR
VERSION:2.0
PRODID:-//Plone.org//NONSGML plone.app.event//EN
X-WR-TIMEZONE:Europe/Rome
BEGIN:VEVENT
SUMMARY:Asta di fotografie
DTSTART;VALUE=DATE-TIME:20101030T153000Z
DTEND;VALUE=DATE-TIME:20101030T173000Z
DTSTAMP;VALUE=DATE-TIME:20260420T150453Z
UID:b5826fd0af297169b4c15b39fa2acf84@127.0.0.1:8095
CATEGORIES:mostra
CONTACT:Associazione AnLaDi\, 339 6247452
CREATED;VALUE=DATE-TIME:20101012T115856Z
DESCRIPTION:A favore del progetto "Camminiamo Insieme" con il Rizzoli per 
 i bambini eritrei
LAST-MODIFIED;VALUE=DATE-TIME:20101111T105420Z
LOCATION:Bologna\, Museo della Sanità e dell'Assistenza
URL:https://www.ausl.bologna.it/eventi/archivio/auslevent.2010-10-12.64576
 03729
END:VEVENT
END:VCALENDAR
