BEGIN:VCALENDAR
VERSION:2.0
PRODID:-//Plone.org//NONSGML plone.app.event//EN
X-WR-TIMEZONE:Europe/Rome
BEGIN:VEVENT
SUMMARY:Il progetto Bologna-Oman. Analisi del genoma umano antico e presen
 te
DTSTART;VALUE=DATE-TIME:20101009T080000Z
DTEND;VALUE=DATE-TIME:20101009T100000Z
DTSTAMP;VALUE=DATE-TIME:20260420T150505Z
UID:106a19d4bcd1ec40c11434ff5fecab75@127.0.0.1:8095
CATEGORIES:Convegno
CONTACT:Società Medica Chirurgica di Bologna\, 051 231488\, info@medchir.
 bo.it
CREATED;VALUE=DATE-TIME:20101011T090722Z
DESCRIPTION:GIORNATA DI CULTURA SANITARIA
LAST-MODIFIED;VALUE=DATE-TIME:20101011T091110Z
LOCATION:Bologna\, Palazzo dell'Archiginnasio
URL:https://www.ausl.bologna.it/eventi/archivio/auslevent.2010-10-11.88146
 20506
END:VEVENT
END:VCALENDAR
