BEGIN:VCALENDAR
VERSION:2.0
PRODID:-//Plone.org//NONSGML plone.app.event//EN
X-WR-TIMEZONE:Europe/Rome
BEGIN:VEVENT
SUMMARY:Giornata Nazionale dell'Afasia
DTSTART;VALUE=DATE-TIME:20101015T220000Z
DTEND;VALUE=DATE-TIME:20101015T220000Z
DTSTAMP;VALUE=DATE-TIME:20260420T150610Z
UID:59fca2eaf88dd111441d2852c02a779f@127.0.0.1:8095
CONTACT:AITA Emilia Romagna\, 051 6252210\, info@afasia-er.it
CREATED;VALUE=DATE-TIME:20101011T081244Z
LAST-MODIFIED;VALUE=DATE-TIME:20101018T074750Z
URL:https://www.ausl.bologna.it/eventi/archivio/auslevent.2010-10-11.68896
 02660
END:VEVENT
END:VCALENDAR
