BEGIN:VCALENDAR
VERSION:2.0
PRODID:-//Plone.org//NONSGML plone.app.event//EN
X-WR-TIMEZONE:Europe/Rome
BEGIN:VEVENT
SUMMARY:Città sane dei bambini
DTSTART;VALUE=DATE-TIME:20101010T080000Z
DTEND;VALUE=DATE-TIME:20101010T110000Z
DTSTAMP;VALUE=DATE-TIME:20260420T152151Z
UID:20e7ac754bcafbcaefb688d8ad548ca2@127.0.0.1:8095
CREATED;VALUE=DATE-TIME:20101009T071922Z
DESCRIPTION:Caccia al tesoro nei sotterranei della città\, con l'associaz
 ione Vitruvio
LAST-MODIFIED;VALUE=DATE-TIME:20101011T081034Z
LOCATION:Piazza Nettuno\, Bologna
URL:https://www.ausl.bologna.it/eventi/archivio/auslevent.2010-10-09.54921
 47382
END:VEVENT
END:VCALENDAR
