BEGIN:VCALENDAR
VERSION:2.0
PRODID:-//Plone.org//NONSGML plone.app.event//EN
X-WR-TIMEZONE:Europe/Rome
BEGIN:VEVENT
SUMMARY:Inaugurazione del nuovo Centro di Medicina Iperbarica di Bologna 
DTSTART;VALUE=DATE-TIME:20101011T093000Z
DTEND;VALUE=DATE-TIME:20101011T120000Z
DTSTAMP;VALUE=DATE-TIME:20260420T150546Z
UID:473f544822acb8f22854376a09fde0c8@127.0.0.1:8095
CATEGORIES:Inaugurazione
CREATED;VALUE=DATE-TIME:20101006T124358Z
LAST-MODIFIED;VALUE=DATE-TIME:20101013T080751Z
LOCATION:Via San Donato\, 63 – Quarto Inferiore (BO)
URL:https://www.ausl.bologna.it/eventi/archivio/auslevent.2010-10-06.90060
 99392
END:VEVENT
END:VCALENDAR
