BEGIN:VCALENDAR
VERSION:2.0
PRODID:-//Plone.org//NONSGML plone.app.event//EN
X-WR-TIMEZONE:Europe/Rome
BEGIN:VEVENT
SUMMARY:L'intestino che si fa sentire
DTSTART;VALUE=DATE-TIME:20101014T160000Z
DTEND;VALUE=DATE-TIME:20101014T213000Z
DTSTAMP;VALUE=DATE-TIME:20260420T150415Z
UID:271bb18042cf64e389cf65edadd9f362@127.0.0.1:8095
CATEGORIES:Convegno
CONTACT:ECO srl\, 0458036052\, eventi@ecorganization.it
CREATED;VALUE=DATE-TIME:20101005T073327Z
DESCRIPTION:Novità e argomenti di gastroenterologia pediatrica
LAST-MODIFIED;VALUE=DATE-TIME:20101018T074804Z
LOCATION:Bologna\, Savhotel
URL:https://www.ausl.bologna.it/eventi/archivio/auslevent.2010-10-05.73087
 63823
END:VEVENT
END:VCALENDAR
