BEGIN:VCALENDAR
VERSION:2.0
PRODID:-//Plone.org//NONSGML plone.app.event//EN
X-WR-TIMEZONE:Europe/Rome
BEGIN:VEVENT
SUMMARY:Seminario pubblico "Le pratiche del sogno" 2010 - La relazione di 
 cura nella salute mentale
DTSTART;VALUE=DATE-TIME:20101007T070000Z
DTEND;VALUE=DATE-TIME:20101007T113000Z
DTSTAMP;VALUE=DATE-TIME:20260420T150609Z
UID:b18baca48ec54660d4fb71c9860f766f@127.0.0.1:8095
CATEGORIES:seminario
CREATED;VALUE=DATE-TIME:20100928T064827Z
DESCRIPTION:Seminario in onore di Eustachio Loperfido
LAST-MODIFIED;VALUE=DATE-TIME:20101011T081041Z
LOCATION:Bologna\, Conservatorio Martini
URL:https://www.ausl.bologna.it/eventi/archivio/auslevent.2010-09-28.40129
 63907
END:VEVENT
END:VCALENDAR
