BEGIN:VCALENDAR
VERSION:2.0
PRODID:-//Plone.org//NONSGML plone.app.event//EN
X-WR-TIMEZONE:Europe/Rome
BEGIN:VEVENT
SUMMARY: Presentazione del volume "64 Incisioni per una Cupola"
DTSTART;VALUE=DATE-TIME:20101002T163000Z
DTEND;VALUE=DATE-TIME:20101002T180000Z
DTSTAMP;VALUE=DATE-TIME:20260420T132045Z
UID:b54023322fc9d883a06686da9216c033@127.0.0.1:8095
CATEGORIES:Incontro con l'autore
CONTACT:051 230260 
CREATED;VALUE=DATE-TIME:20100927T141240Z
DESCRIPTION:a cura di Marco Fiori
LAST-MODIFIED;VALUE=DATE-TIME:20101005T072751Z
LOCATION:Bologna\, Oratorio di Santa Maria della Vita
URL:https://www.ausl.bologna.it/eventi/archivio/auslevent.2010-09-27.28138
 61461
END:VEVENT
END:VCALENDAR
