BEGIN:VCALENDAR
VERSION:2.0
PRODID:-//Plone.org//NONSGML plone.app.event//EN
X-WR-TIMEZONE:Europe/Rome
BEGIN:VEVENT
SUMMARY:I° camminata Memorial Gabrieli 
DTSTART;VALUE=DATE-TIME:20101002T120000Z
DTEND;VALUE=DATE-TIME:20101002T150000Z
DTSTAMP;VALUE=DATE-TIME:20260420T132033Z
UID:23ac249aebe1d894d4e1dc685be81415@127.0.0.1:8095
CATEGORIES:Camminata e corsa campestre
CREATED;VALUE=DATE-TIME:20100924T091725Z
DESCRIPTION:A cura dell'Associazione Bentivoglio cuore per la promozione d
 i stili di vita sani e per la prevenzione delle malattie cardiovascolari
LAST-MODIFIED;VALUE=DATE-TIME:20101005T072753Z
LOCATION:Bentivoglia\, Piazza Pizzardi
URL:https://www.ausl.bologna.it/eventi/archivio/auslevent.2010-09-24.76955
 97277
END:VEVENT
END:VCALENDAR
