BEGIN:VCALENDAR
VERSION:2.0
PRODID:-//Plone.org//NONSGML plone.app.event//EN
X-WR-TIMEZONE:Europe/Rome
BEGIN:VEVENT
SUMMARY:Festival della Salute
DTSTART;VALUE=DATE-TIME:20100920T220000Z
DTEND;VALUE=DATE-TIME:20100925T220000Z
DTSTAMP;VALUE=DATE-TIME:20260420T132045Z
UID:5a3b667f286a14a3bd1e315158593e32@127.0.0.1:8095
CREATED;VALUE=DATE-TIME:20100924T130802Z
LAST-MODIFIED;VALUE=DATE-TIME:20101005T072800Z
LOCATION:Viareggio
URL:https://www.ausl.bologna.it/eventi/archivio/auslevent.2010-09-24.49405
 05897
END:VEVENT
END:VCALENDAR
