BEGIN:VCALENDAR
VERSION:2.0
PRODID:-//Plone.org//NONSGML plone.app.event//EN
X-WR-TIMEZONE:Europe/Rome
BEGIN:VEVENT
SUMMARY:Emergo Train System
DTSTART;VALUE=DATE-TIME:20101005T220000Z
DTEND;VALUE=DATE-TIME:20101007T220000Z
DTSTAMP;VALUE=DATE-TIME:20260420T132113Z
UID:c46ca71c3e2917f40c31c750955119a0@127.0.0.1:8095
CATEGORIES:Workshop
CONTACT:Enrica Pasquali\, 333 6832111
CREATED;VALUE=DATE-TIME:20100924T132310Z
DESCRIPTION:First Italian ETS Workshop
LAST-MODIFIED;VALUE=DATE-TIME:20101019T114514Z
LOCATION:Bologna
URL:https://www.ausl.bologna.it/eventi/archivio/auslevent.2010-09-24.27299
 75780
END:VEVENT
END:VCALENDAR
