BEGIN:VCALENDAR
VERSION:2.0
PRODID:-//Plone.org//NONSGML plone.app.event//EN
X-WR-TIMEZONE:Europe/Rome
BEGIN:VEVENT
SUMMARY:PasseggiAmo per Santo Stefano
DTSTART;VALUE=DATE-TIME:20101003T080000Z
DTEND;VALUE=DATE-TIME:20101003T100000Z
DTSTAMP;VALUE=DATE-TIME:20260420T132045Z
UID:ccce77bce02943091c07cc806d32a3ca@127.0.0.1:8095
CATEGORIES:Camminata e corsa campestre
CREATED;VALUE=DATE-TIME:20100922T122542Z
DESCRIPTION:IL MONDO DELLO SPORT RACCOGLIE FONDI PER IL RESTAURO DELLA BAS
 ILICA SANTO STEFANO
LAST-MODIFIED;VALUE=DATE-TIME:20101005T072752Z
LOCATION:Bologna\, Santo Stefano
URL:https://www.ausl.bologna.it/eventi/archivio/auslevent.2010-09-22.05709
 44084
END:VEVENT
END:VCALENDAR
