BEGIN:VCALENDAR
VERSION:2.0
PRODID:-//Plone.org//NONSGML plone.app.event//EN
X-WR-TIMEZONE:Europe/Rome
BEGIN:VEVENT
SUMMARY:Vita brevis ars longa
DTSTART;VALUE=DATE-TIME:20100925T160000Z
DTEND;VALUE=DATE-TIME:20100925T180000Z
DTSTAMP;VALUE=DATE-TIME:20260420T132035Z
UID:a49922290ec1ebaebedea25c1539ecc1@127.0.0.1:8095
CATEGORIES:Inaugurazione
CONTACT:Istituzione Biblioteca Classense \, 0544 482112 \, segreteriaclas@
 classense.ra.it
CREATED;VALUE=DATE-TIME:20100921T082548Z
DESCRIPTION:Il sapere medico a Ravenna attraverso i libri antichi della Bi
 blioteca Classense\n(1400-1700)
LAST-MODIFIED;VALUE=DATE-TIME:20100927T140318Z
LOCATION:Ravenna\, Biblioteca Cassense
URL:https://www.ausl.bologna.it/eventi/archivio/auslevent.2010-09-21.22356
 98095
END:VEVENT
END:VCALENDAR
