BEGIN:VCALENDAR
VERSION:2.0
PRODID:-//Plone.org//NONSGML plone.app.event//EN
X-WR-TIMEZONE:Europe/Rome
BEGIN:VEVENT
SUMMARY:Presentazione rapporto sulle dipendenze in area metropolitana 2009
DTSTART;VALUE=DATE-TIME:20101012T070000Z
DTEND;VALUE=DATE-TIME:20101012T120000Z
DTSTAMP;VALUE=DATE-TIME:20260420T132045Z
UID:5114d3b73eefd8d3a02558f70ab1a2e4@127.0.0.1:8095
ATTENDEE;CN="Medici, Psicologi, infermieri, assistenti sociali, ASV, educa
 tori";ROLE=REQ-PARTICIPANT:Medici, Psicologi, infermieri, assistenti socia
 li, ASV, educatori
CATEGORIES:Convegno
CONTACT:Raimondo Pavarin\, 051 272870 \, raimondo.pavarin@ausl.bologna.it
CREATED;VALUE=DATE-TIME:20100920T125232Z
DESCRIPTION:Quadro epidemiologico\, caratteristiche tossicodipendenti e al
 colisti\, attività nei servizi
LAST-MODIFIED;VALUE=DATE-TIME:20101015T112647Z
LOCATION:Bologna\, Aula ex Cappella\, Via S. Isaia
URL:https://www.ausl.bologna.it/eventi/archivio/auslevent.2010-09-20.97567
 85760
END:VEVENT
END:VCALENDAR
