BEGIN:VCALENDAR
VERSION:2.0
PRODID:-//Plone.org//NONSGML plone.app.event//EN
X-WR-TIMEZONE:Europe/Rome
BEGIN:VEVENT
SUMMARY:Giornata Nazionale dei Risvegli - Dodicesima edizione
DTSTART;VALUE=DATE-TIME:20101007T070000Z
DTEND;VALUE=DATE-TIME:20101007T210000Z
DTSTAMP;VALUE=DATE-TIME:20260420T131939Z
UID:971a934b038cc7e9ef149b6bc41f2845@127.0.0.1:8095
CONTACT:Gli amici di Luca\, 051 6494570\, amicidiluca@tin.it
CREATED;VALUE=DATE-TIME:20100920T124200Z
DESCRIPTION:Per la ricerca sul coma - Vale la pena
LAST-MODIFIED;VALUE=DATE-TIME:20101011T081042Z
LOCATION:Bologna
URL:https://www.ausl.bologna.it/eventi/archivio/auslevent.2010-09-20.82818
 05376
END:VEVENT
END:VCALENDAR
