BEGIN:VCALENDAR
VERSION:2.0
PRODID:-//Plone.org//NONSGML plone.app.event//EN
X-WR-TIMEZONE:Europe/Rome
BEGIN:VEVENT
SUMMARY:Aspetti innovativi della terapia riabilitativa ed assistenza dei d
 isturbi cognitivi nelle gravi cerebrolesioni
DTSTART;VALUE=DATE-TIME:20101002T070000Z
DTEND;VALUE=DATE-TIME:20101002T150000Z
DTSTAMP;VALUE=DATE-TIME:20260420T132045Z
UID:147e2255f9f9334795caf23867ed1477@127.0.0.1:8095
ATTENDEE;CN="Medici, infermieri, fisioterapisti";ROLE=REQ-PARTICIPANT:Medi
 ci, infermieri, fisioterapisti
CATEGORIES:Convegno
CONTACT:Rosangela Crotti\, 035 2811621\, diramministrativa@cdcsanfrancesco
 .it
CREATED;VALUE=DATE-TIME:20100920T115830Z
DESCRIPTION:Convegno promosso dall'Associazione Riabilitatori e Neurologi 
 Interalpe in collaborazione  con l'associazione "Genesis" di S. Pellegrino
  Terme
LAST-MODIFIED;VALUE=DATE-TIME:20101005T072749Z
LOCATION:S. Pellegrino Terme\, Hotel  Bigio
URL:https://www.ausl.bologna.it/eventi/archivio/auslevent.2010-09-20.58141
 90388
END:VEVENT
END:VCALENDAR
