BEGIN:VCALENDAR
VERSION:2.0
PRODID:-//Plone.org//NONSGML plone.app.event//EN
X-WR-TIMEZONE:Europe/Rome
BEGIN:VEVENT
SUMMARY:Concerto
DTSTART;VALUE=DATE-TIME:20100924T160000Z
DTEND;VALUE=DATE-TIME:20100924T180000Z
DTSTAMP;VALUE=DATE-TIME:20260420T112159Z
UID:95fc101945e03217c90d4df6b3d9071a@127.0.0.1:8095
CATEGORIES:Serata
CREATED;VALUE=DATE-TIME:20100920T130326Z
LAST-MODIFIED;VALUE=DATE-TIME:20100927T140317Z
LOCATION:Bologna\, Sala Vasari - Istituto Ortopedico Rizzoli
URL:https://www.ausl.bologna.it/eventi/archivio/auslevent.2010-09-20.56295
 46125
END:VEVENT
END:VCALENDAR
