BEGIN:VCALENDAR
VERSION:2.0
PRODID:-//Plone.org//NONSGML plone.app.event//EN
X-WR-TIMEZONE:Europe/Rome
BEGIN:VEVENT
SUMMARY:Ricerca e sperimentazione sugli stati vegetativi
DTSTART;VALUE=DATE-TIME:20101005T123000Z
DTEND;VALUE=DATE-TIME:20101005T163000Z
DTSTAMP;VALUE=DATE-TIME:20260420T131938Z
UID:769a59e3c863cf06fefecaf60c087a3c@127.0.0.1:8095
ATTENDEE;CN="Fisiatri, neurologi, medici di base, infermieri, educatori pr
 ofessionali,";ROLE=REQ-PARTICIPANT:Fisiatri, neurologi, medici di base, in
 fermieri, educatori professionali,
ATTENDEE;CN="psicologi, terapisti occupazionali, fisioterapisti, logopedis
 ti, assistenti sanitari.";ROLE=REQ-PARTICIPANT:psicologi, terapisti occupa
 zionali, fisioterapisti, logopedisti, assistenti sanitari.
CATEGORIES:Convegno
CONTACT:Gli amici di Luca\, 051 6494570\, amicidiluca@tin.it
CREATED;VALUE=DATE-TIME:20100920T120731Z
DESCRIPTION:Iniziativa promossa dal Centro Studi per la Ricerca sul Coma c
 on il patrocinio\ndel Ministero della Salute\, dell’Azienda Usl di Bolog
 na e dell’Ordine dei Medici Chirurghi e Odontoiatri di Bologna
LAST-MODIFIED;VALUE=DATE-TIME:20101011T081040Z
LOCATION:Bologna\, Palazzo d'Accursio
URL:https://www.ausl.bologna.it/eventi/archivio/auslevent.2010-09-20.00543
 89775
END:VEVENT
END:VCALENDAR
