BEGIN:VCALENDAR
VERSION:2.0
PRODID:-//Plone.org//NONSGML plone.app.event//EN
X-WR-TIMEZONE:Europe/Rome
BEGIN:VEVENT
SUMMARY:Giornata di sensibilizzazione alle donazioni
DTSTART;VALUE=DATE-TIME:20100918T070000Z
DTEND;VALUE=DATE-TIME:20100918T113000Z
DTSTAMP;VALUE=DATE-TIME:20260420T132045Z
UID:b213e28856cf43ee87a9da7207c8305a@127.0.0.1:8095
CATEGORIES:Inaugurazione
CREATED;VALUE=DATE-TIME:20100917T155053Z
DESCRIPTION:Inaugurazione e visita Casa Accoglienza "Tetto Amico"
LAST-MODIFIED;VALUE=DATE-TIME:20100920T115207Z
LOCATION:Bologna\, Policlinico S.Orsola\, padiglione 8
URL:https://www.ausl.bologna.it/eventi/archivio/auslevent.2010-09-17.56224
 68639
END:VEVENT
END:VCALENDAR
