BEGIN:VCALENDAR
VERSION:2.0
PRODID:-//Plone.org//NONSGML plone.app.event//EN
X-WR-TIMEZONE:Europe/Rome
BEGIN:VEVENT
SUMMARY:Poster in mostra 
DTSTART;VALUE=DATE-TIME:20100918T052000Z
DTEND;VALUE=DATE-TIME:20100925T112000Z
DTSTAMP;VALUE=DATE-TIME:20260420T131941Z
UID:7189e06d4d419f66e4208bd9333c38db@127.0.0.1:8095
CATEGORIES:mostra
CREATED;VALUE=DATE-TIME:20100917T085327Z
DESCRIPTION:Le esperienze più significative e innovative dei primi dieci 
 anni di attività del Poliambulatorio Borgo Panigale\, in via Nani
LAST-MODIFIED;VALUE=DATE-TIME:20100927T140310Z
LOCATION:Via Nani 10\, Bologna
URL:https://www.ausl.bologna.it/eventi/archivio/auslevent.2010-09-17.40352
 78949
END:VEVENT
END:VCALENDAR
