BEGIN:VCALENDAR
VERSION:2.0
PRODID:-//Plone.org//NONSGML plone.app.event//EN
X-WR-TIMEZONE:Europe/Rome
BEGIN:VEVENT
SUMMARY:RACE FOR THE CURE
DTSTART;VALUE=DATE-TIME:20100926T080000Z
DTEND;VALUE=DATE-TIME:20100926T100000Z
DTSTAMP;VALUE=DATE-TIME:20260420T132045Z
UID:ba30893d09c8902aa2c291e06e991cdb@127.0.0.1:8095
CATEGORIES:Camminata e corsa campestre
CONTACT:Susan G. Komen Italia\, 051 6225976\, bologna.race@komen.it
CREATED;VALUE=DATE-TIME:20100916T090156Z
DESCRIPTION:Mini maratona di 5 km e passeggiata di 2 km
LAST-MODIFIED;VALUE=DATE-TIME:20100927T140314Z
LOCATION:Bologna\, Giardini Margherita
URL:https://www.ausl.bologna.it/eventi/archivio/auslevent.2010-09-16.54466
 31378
END:VEVENT
END:VCALENDAR
