BEGIN:VCALENDAR
VERSION:2.0
PRODID:-//Plone.org//NONSGML plone.app.event//EN
X-WR-TIMEZONE:Europe/Rome
BEGIN:VEVENT
SUMMARY:La sfida della psiche al tumore
DTSTART;VALUE=DATE-TIME:20100925T073000Z
DTEND;VALUE=DATE-TIME:20100925T100000Z
DTSTAMP;VALUE=DATE-TIME:20260420T132034Z
UID:37f5af5444a777a03d0818be3ae72cc2@127.0.0.1:8095
CATEGORIES:seminario
CONTACT:Estense ricerca\, 335 5297724
CREATED;VALUE=DATE-TIME:20100916T082041Z
DESCRIPTION:Il perchè\, il quando\, il come della psicooncologia
LAST-MODIFIED;VALUE=DATE-TIME:20100927T140313Z
LOCATION:Reggia di Belriguardo\, Voghiera di Ferrara
URL:https://www.ausl.bologna.it/eventi/archivio/auslevent.2010-09-16.16038
 01800
END:VEVENT
END:VCALENDAR
