BEGIN:VCALENDAR
VERSION:2.0
PRODID:-//Plone.org//NONSGML plone.app.event//EN
X-WR-TIMEZONE:Europe/Rome
BEGIN:VEVENT
SUMMARY:Le luci di via Abba
DTSTART;VALUE=DATE-TIME:20100924T133000Z
DTEND;VALUE=DATE-TIME:20100924T210000Z
DTSTAMP;VALUE=DATE-TIME:20260420T131931Z
UID:59e7a7f266f8ee866e3fb6f16b695f4e@127.0.0.1:8095
CATEGORIES:Festa
CONTACT:Centro diurno Fandango
CREATED;VALUE=DATE-TIME:20100910T103720Z
DESCRIPTION:Festa di strada
LAST-MODIFIED;VALUE=DATE-TIME:20100927T140311Z
LOCATION:Bologna\, via Abba
URL:https://www.ausl.bologna.it/eventi/archivio/auslevent.2010-09-10.96877
 89044
END:VEVENT
END:VCALENDAR
