BEGIN:VCALENDAR
VERSION:2.0
PRODID:-//Plone.org//NONSGML plone.app.event//EN
X-WR-TIMEZONE:Europe/Rome
BEGIN:VEVENT
SUMMARY:Tabagismo - le terapie farmacologiche
DTSTART;VALUE=DATE-TIME:20100929T070000Z
DTEND;VALUE=DATE-TIME:20100929T160000Z
DTSTAMP;VALUE=DATE-TIME:20260420T132034Z
UID:99b5d64596090e432cb58a70b6f33839@127.0.0.1:8095
CATEGORIES:corso
CONTACT:F. Alberoni - Policlinico Modena
CREATED;VALUE=DATE-TIME:20100907T140621Z
DESCRIPTION:Corso di aggiornamento tecnico scientifico e formazione profes
 sionale
LAST-MODIFIED;VALUE=DATE-TIME:20101005T072744Z
LOCATION:Modena\, Facoltà di Medicina e Chirurgia
URL:https://www.ausl.bologna.it/eventi/archivio/auslevent.2010-09-07.61969
 14466
END:VEVENT
END:VCALENDAR
