BEGIN:VCALENDAR
VERSION:2.0
PRODID:-//Plone.org//NONSGML plone.app.event//EN
X-WR-TIMEZONE:Europe/Rome
BEGIN:VEVENT
SUMMARY:Attualità sulle rinosinusopatie
DTSTART;VALUE=DATE-TIME:20101002T060000Z
DTEND;VALUE=DATE-TIME:20101002T160000Z
DTSTAMP;VALUE=DATE-TIME:20260420T131930Z
UID:a2ac0187fcbff09341b2b022bb2113d3@127.0.0.1:8095
ATTENDEE;CN="Otorinolaringoiatri, Allergologi, Pediatri,Pneumologi e Medic
 i di Base";ROLE=REQ-PARTICIPANT:Otorinolaringoiatri, Allergologi, Pediatri
 ,Pneumologi e Medici di Base
CATEGORIES:Convegno
CONTACT:Momeda Eventi S.r.l.\, 051 5876729\, info@momedaeventi.com
CREATED;VALUE=DATE-TIME:20100906T074217Z
LAST-MODIFIED;VALUE=DATE-TIME:20101005T072739Z
LOCATION:Bologna\, Hotel Savoia Regency
URL:https://www.ausl.bologna.it/eventi/archivio/auslevent.2010-09-06.70551
 47120
END:VEVENT
END:VCALENDAR
