BEGIN:VCALENDAR
VERSION:2.0
PRODID:-//Plone.org//NONSGML plone.app.event//EN
X-WR-TIMEZONE:Europe/Rome
BEGIN:VEVENT
SUMMARY:Prendersi cura dei cittadini del mondo 
DTSTART;VALUE=DATE-TIME:20101001T073000Z
DTEND;VALUE=DATE-TIME:20101002T130000Z
DTSTAMP;VALUE=DATE-TIME:20260420T132045Z
UID:47c1cad2ad24172c8b995a7902122fdf@127.0.0.1:8095
CONTACT:Associazione Don G. Fornasini\, 0534 54200\, info@fondazionesantac
 lelia.it
CREATED;VALUE=DATE-TIME:20100906T094940Z
DESCRIPTION:Giornate di studio del Corno alle Scale
LAST-MODIFIED;VALUE=DATE-TIME:20101005T072742Z
LOCATION:Vidiciatico\, Lizzano in Belvedere
URL:https://www.ausl.bologna.it/eventi/archivio/auslevent.2010-09-06.31169
 30397
END:VEVENT
END:VCALENDAR
