BEGIN:VCALENDAR
VERSION:2.0
PRODID:-//Plone.org//NONSGML plone.app.event//EN
X-WR-TIMEZONE:Europe/Rome
BEGIN:VEVENT
SUMMARY:Rodaria *04
DTSTART;VALUE=DATE-TIME:20100925T133000Z
DTEND;VALUE=DATE-TIME:20100925T170000Z
DTSTAMP;VALUE=DATE-TIME:20260420T132045Z
UID:f11cd3f4fc0b7c4667e4ab797fab9f81@127.0.0.1:8095
CATEGORIES:Festa
CONTACT:Cadiai\, 051 491392
CREATED;VALUE=DATE-TIME:20100903T095317Z
DESCRIPTION:Quarta festa di fine estate a casa Rodari
LAST-MODIFIED;VALUE=DATE-TIME:20100927T140308Z
LOCATION:Bologna\, via Fossolo 60
URL:https://www.ausl.bologna.it/eventi/archivio/auslevent.2010-09-03.99039
 11587
END:VEVENT
END:VCALENDAR
