BEGIN:VCALENDAR
VERSION:2.0
PRODID:-//Plone.org//NONSGML plone.app.event//EN
X-WR-TIMEZONE:Europe/Rome
BEGIN:VEVENT
SUMMARY:Il deterioramento cognitivo\, che fare?
DTSTART;VALUE=DATE-TIME:20100918T063000Z
DTEND;VALUE=DATE-TIME:20100918T143000Z
DTSTAMP;VALUE=DATE-TIME:20260420T131850Z
UID:fa236612038db5100ca890a213b2e01e@127.0.0.1:8095
CATEGORIES:Convegno
CONTACT:Momeda Eventi srl\, 051 5876729\, info@momedaeventi.com
CREATED;VALUE=DATE-TIME:20100830T082826Z
DESCRIPTION:Il ruolo del medico di medicina generale
LAST-MODIFIED;VALUE=DATE-TIME:20100920T115204Z
LOCATION:Bologna - Savoia Regency Hotel
URL:https://www.ausl.bologna.it/eventi/archivio/auslevent.2010-08-30.80131
 27438
END:VEVENT
END:VCALENDAR
