BEGIN:VCALENDAR
VERSION:2.0
PRODID:-//Plone.org//NONSGML plone.app.event//EN
X-WR-TIMEZONE:Europe/Rome
BEGIN:VEVENT
SUMMARY:La Medicina Tibetana: patrimonio dell’Umanità
DTSTART;VALUE=DATE-TIME:20100911T070000Z
DTEND;VALUE=DATE-TIME:20100911T110000Z
DTSTAMP;VALUE=DATE-TIME:20260420T131851Z
UID:50c1649371426baecb7492fe284305de@127.0.0.1:8095
CATEGORIES:seminario
CONTACT:Associazione per la Medicina Centrata sulla Persona\, 335 80.29.63
 8\, info@medicinacentratasullapersona.org
CREATED;VALUE=DATE-TIME:20100830T064152Z
DESCRIPTION:Lezione Magistrale del Prof. Namkhai Norbu
LAST-MODIFIED;VALUE=DATE-TIME:20100916T081821Z
LOCATION:Aula Magna\, Istituto di Anatomia Umana Normale\,Bologna
URL:https://www.ausl.bologna.it/eventi/archivio/auslevent.2010-08-30.09689
 66074
END:VEVENT
END:VCALENDAR
