BEGIN:VCALENDAR
VERSION:2.0
PRODID:-//Plone.org//NONSGML plone.app.event//EN
X-WR-TIMEZONE:Europe/Rome
BEGIN:VEVENT
SUMMARY:L'in-formazione sulla salute
DTSTART;VALUE=DATE-TIME:20100924T070000Z
DTEND;VALUE=DATE-TIME:20100924T113000Z
DTSTAMP;VALUE=DATE-TIME:20260420T132034Z
UID:a9beff433374bd84aa06b4f13d44a76f@127.0.0.1:8095
CATEGORIES:seminario
CONTACT:Elisa Soricelli\, 051 5277405\, esoricelli@regione.emilia-romagna.
 it
CREATED;VALUE=DATE-TIME:20100830T071042Z
LAST-MODIFIED;VALUE=DATE-TIME:20100927T140306Z
LOCATION:Bologna - viale Aldo Moro 21
URL:https://www.ausl.bologna.it/eventi/archivio/auslevent.2010-08-30.00469
 57328
END:VEVENT
END:VCALENDAR
