BEGIN:VCALENDAR
VERSION:2.0
PRODID:-//Plone.org//NONSGML plone.app.event//EN
X-WR-TIMEZONE:Europe/Rome
BEGIN:VEVENT
SUMMARY:Patologia neoplastica rara: la malattia trofoblastica gestazionale
  
DTSTART;VALUE=DATE-TIME:20100925T063000Z
DTEND;VALUE=DATE-TIME:20100925T120000Z
DTSTAMP;VALUE=DATE-TIME:20260420T132035Z
UID:aba10d69b6df764bf69abf1f959dfd47@127.0.0.1:8095
CONTACT:Dott.ssa Angela Salerno \, 051 647 8394\, angela.salerno@ausl.bolo
 gna.it
CREATED;VALUE=DATE-TIME:20100826T145640Z
DESCRIPTION:Epidemiologia\, Diagnostica clinico-patologica\, Gestione clin
 ica e Terapia\, Approccio multidisciplinare
LAST-MODIFIED;VALUE=DATE-TIME:20100927T140412Z
LOCATION:Bologna\, Aula Magna dell'Ospedale Maggiore 
URL:https://www.ausl.bologna.it/eventi/archivio/auslevent.2010-08-26.43895
 24466
END:VEVENT
END:VCALENDAR
