BEGIN:VCALENDAR
VERSION:2.0
PRODID:-//Plone.org//NONSGML plone.app.event//EN
X-WR-TIMEZONE:Europe/Rome
BEGIN:VEVENT
SUMMARY:Convegno nazionale AMA
DTSTART;VALUE=DATE-TIME:20100917T070000Z
DTEND;VALUE=DATE-TIME:20100919T110000Z
DTSTAMP;VALUE=DATE-TIME:20260420T131939Z
UID:b6483c630ed7ca9ae1f614929200e806@127.0.0.1:8095
CATEGORIES:Convegno
CONTACT:convegnoautoaiuto2010@gmail.com
CREATED;VALUE=DATE-TIME:20100730T091255Z
DESCRIPTION:7 convegno dei gruppi di auto mutuo aiuto
LAST-MODIFIED;VALUE=DATE-TIME:20100917T160346Z
LOCATION:Brescia
URL:https://www.ausl.bologna.it/eventi/archivio/auslevent.2010-07-30.98446
 93353
END:VEVENT
END:VCALENDAR
