BEGIN:VCALENDAR
VERSION:2.0
PRODID:-//Plone.org//NONSGML plone.app.event//EN
X-WR-TIMEZONE:Europe/Rome
BEGIN:VEVENT
SUMMARY:IX Incontro di Allergologia Pediatrica: lo Stato dell’Arte
DTSTART;VALUE=DATE-TIME:20100918T063000Z
DTEND;VALUE=DATE-TIME:20100918T160000Z
DTSTAMP;VALUE=DATE-TIME:20260420T132034Z
UID:a6e24461e07b35e5b182e3451db8239a@127.0.0.1:8095
ATTENDEE;CN="Medici Chirurghi, Infermieri";ROLE=REQ-PARTICIPANT:Medici Chi
 rurghi, Infermieri
CATEGORIES:Convegno
CONTACT:Momeda Eventi S.r.l.\, 051 5876729\, info@momedaeventi.com
CREATED;VALUE=DATE-TIME:20100723T073841Z
LAST-MODIFIED;VALUE=DATE-TIME:20100920T115159Z
LOCATION:Sala dei Cinque Camini - Castello di Bentivoglio
URL:https://www.ausl.bologna.it/eventi/archivio/auslevent.2010-07-23.62157
 37854
END:VEVENT
END:VCALENDAR
