BEGIN:VCALENDAR
VERSION:2.0
PRODID:-//Plone.org//NONSGML plone.app.event//EN
X-WR-TIMEZONE:Europe/Rome
BEGIN:VEVENT
SUMMARY:La verità e il suo doppio.
DTSTART;VALUE=DATE-TIME:20101026T063000Z
DTEND;VALUE=DATE-TIME:20101026T153000Z
DTSTAMP;VALUE=DATE-TIME:20260420T132113Z
UID:0ae532321d5d5c841c8380ac4218f7c1@127.0.0.1:8095
ATTENDEE;CN="Collegio di Direzione, Staff della Direzione Generale, Dirett
 ori di Unità Operativa Complessa Ospedaliera e Territoriale, Responsabili
  SATeR e ArOA, Coordinatori Infermieristici di Unità Assistenziale, Comit
 ato Infezioni Ospedaliere, Coordinatori Clinici di Area Dipartimentale, Re
 sponsabili di Farmacovigilanza, Referenti Clinici dei Medici di Medicina G
 enerale, Medici di Organizzazione, Medici di Organizzazione dei Servizi sa
 nitari di base, Unità Operativa Affari Generali e Legali, Referenti della
  Rete del Rischio, della Qualità e Governo Clinico e della Comunicazione.
 ";ROLE=REQ-PARTICIPANT:Collegio di Direzione, Staff della Direzione Genera
 le, Direttori di Unità Operativa Complessa Ospedaliera e Territoriale, Re
 sponsabili SATeR e ArOA, Coordinatori Infermieristici di Unità Assistenzi
 ale, Comitato Infezioni Ospedaliere, Coordinatori Clinici di Area Dipartim
 entale, Responsabili di Farmacovigilanza, Referenti Clinici dei Medici di 
 Medicina Generale, Medici di Organizzazione, Medici di Organizzazione dei 
 Servizi sanitari di base, Unità Operativa Affari Generali e Legali, Refer
 enti della Rete del Rischio, della Qualità e Governo Clinico e della Comu
 nicazione.
CATEGORIES:Convegno
CONTACT:Annalisa Venturi\, annalisa.venturi@ausl.bologna.it
CREATED;VALUE=DATE-TIME:20100712T131502Z
DESCRIPTION:La gestione del rischio clinico nell'AUSL di Bologna
LAST-MODIFIED;VALUE=DATE-TIME:20101111T105412Z
LOCATION:Boscolo Hotel Tower\, Viale Lenin\, 43 - Bologna
URL:https://www.ausl.bologna.it/eventi/archivio/auslevent.2010-07-12.40625
 58602
END:VEVENT
END:VCALENDAR
