BEGIN:VCALENDAR
VERSION:2.0
PRODID:-//Plone.org//NONSGML plone.app.event//EN
X-WR-TIMEZONE:Europe/Rome
BEGIN:VEVENT
SUMMARY:1° Festival dell'urologia
DTSTART;VALUE=DATE-TIME:20101001T140000Z
DTEND;VALUE=DATE-TIME:20101002T110000Z
DTSTAMP;VALUE=DATE-TIME:20260420T131849Z
UID:c7288478766fb2b91890a920509650c9@127.0.0.1:8095
ATTENDEE;CN="Medici, infermieri";ROLE=REQ-PARTICIPANT:Medici, infermieri
CATEGORIES:Convegno
CONTACT:Noema\, 051 230385\, info@noemacongressi.it
CREATED;VALUE=DATE-TIME:20100701T103623Z
DESCRIPTION:RACCONTIAMOCI: I PROGRESSI DELL’UROLOGIA IN EMILIA-ROMAGNA
LAST-MODIFIED;VALUE=DATE-TIME:20101005T072734Z
LOCATION:Palazzo del Turismo\, Cesenatico
URL:https://www.ausl.bologna.it/eventi/archivio/auslevent.2010-07-01.30969
 87941
END:VEVENT
END:VCALENDAR
