BEGIN:VCALENDAR
VERSION:2.0
PRODID:-//Plone.org//NONSGML plone.app.event//EN
X-WR-TIMEZONE:Europe/Rome
BEGIN:VEVENT
SUMMARY:QUANDO LA MENTE SI INVOLA
DTSTART;VALUE=DATE-TIME:20100612T073000Z
DTEND;VALUE=DATE-TIME:20100612T103000Z
DTSTAMP;VALUE=DATE-TIME:20260420T131933Z
UID:516e55a383c80fd4956305d338eff249@127.0.0.1:8095
CATEGORIES:Dibattito
CREATED;VALUE=DATE-TIME:20100610T100848Z
DESCRIPTION:L’A.R.A.D. e la rivista “Vivere a San Lazzaro” promuovon
 o un dibattito sulla condizione dell’anziano nella realtà bolognese e s
 u come fronteggiare gli effetti dell’invecchiamento.
LAST-MODIFIED;VALUE=DATE-TIME:20100615T064527Z
LOCATION:San Lazzaro di Savena - Mediateca
URL:https://www.ausl.bologna.it/eventi/archivio/auslevent.2010-06-10.44978
 83961
END:VEVENT
END:VCALENDAR
