BEGIN:VCALENDAR
VERSION:2.0
PRODID:-//Plone.org//NONSGML plone.app.event//EN
X-WR-TIMEZONE:Europe/Rome
BEGIN:VEVENT
SUMMARY:Il cambiamento utile: progetti\, cantieri\, novità per cittadini 
 e imprese della Regione Emilia-Romagna
DTSTART;VALUE=DATE-TIME:20100611T080000Z
DTEND;VALUE=DATE-TIME:20100611T153000Z
DTSTAMP;VALUE=DATE-TIME:20260420T131940Z
UID:75514cb97618b65bcad6e670f43a4251@127.0.0.1:8095
CATEGORIES:Convegno
CREATED;VALUE=DATE-TIME:20100609T070621Z
DESCRIPTION:Presentazione dei project work della prima edizione del Master
  in Gestione dell'Innovazione Tecnologica nella Pubblica Amministrazione.
LAST-MODIFIED;VALUE=DATE-TIME:20100615T064525Z
LOCATION:Villa Guastavillani\, Bologna
URL:https://www.ausl.bologna.it/eventi/archivio/auslevent.2010-06-09.08222
 92997
END:VEVENT
END:VCALENDAR
