BEGIN:VCALENDAR
VERSION:2.0
PRODID:-//Plone.org//NONSGML plone.app.event//EN
X-WR-TIMEZONE:Europe/Rome
BEGIN:VEVENT
SUMMARY:Nella vita non è necessario provare di tutto…BOLOGNA DAL TRAMON
 TO ALL'ALBA DIMENSIONI E DIVERTIMENTI DIVERSI
DTSTART;VALUE=DATE-TIME:20100610T163000Z
DTEND;VALUE=DATE-TIME:20100610T213000Z
DTSTAMP;VALUE=DATE-TIME:20260420T132034Z
UID:a4f8f7a907fd5bcd8271505382516c5a@127.0.0.1:8095
CATEGORIES:Serata
CONTACT:Angelo Ribuffo Bugamelli \, 338 9608679 
CREATED;VALUE=DATE-TIME:20100603T084119Z
DESCRIPTION:Serata di prevenzione dei comportamenti a rischio
LAST-MODIFIED;VALUE=DATE-TIME:20100611T091833Z
LOCATION:Bologna - Piazza Maggiore 
URL:https://www.ausl.bologna.it/eventi/archivio/auslevent.2010-06-03.81457
 56361
END:VEVENT
END:VCALENDAR
