BEGIN:VCALENDAR
VERSION:2.0
PRODID:-//Plone.org//NONSGML plone.app.event//EN
X-WR-TIMEZONE:Europe/Rome
BEGIN:VEVENT
SUMMARY:Uso e abuso\, percezione del rischio e significati attribuiti alle
  sostanze psicoattive tra gli studenti di età inferiore o uguale a 16 ann
 i 
DTSTART;VALUE=DATE-TIME:20100916T140000Z
DTEND;VALUE=DATE-TIME:20100916T170000Z
DTSTAMP;VALUE=DATE-TIME:20260420T131846Z
UID:f9bc637b7e814b7ef4525d744fc24ce5@127.0.0.1:8095
CATEGORIES:seminario
CONTACT:Raimondo Pavarin\, 051 272870 \, raimondo.pavarin@ausl.bologna.it
CREATED;VALUE=DATE-TIME:20100603T085302Z
DESCRIPTION:Presentazione della ricerca “… PERDI I RAPPORTI\, ED IL RE
 STO DEL MONDO NON ESISTE”
LAST-MODIFIED;VALUE=DATE-TIME:20100917T160345Z
LOCATION: 	  Bologna - Sala Borsa Auditorium Enzo Biagi 
URL:https://www.ausl.bologna.it/eventi/archivio/auslevent.2010-06-03.04891
 96681
END:VEVENT
END:VCALENDAR
