BEGIN:VCALENDAR
VERSION:2.0
PRODID:-//Plone.org//NONSGML plone.app.event//EN
X-WR-TIMEZONE:Europe/Rome
BEGIN:VEVENT
SUMMARY:Datti una mossa!
DTSTART;VALUE=DATE-TIME:20100612T150000Z
DTEND;VALUE=DATE-TIME:20100612T180000Z
DTSTAMP;VALUE=DATE-TIME:20260420T132112Z
UID:cb96ab2a3ab7a05f84b851464ecf80d4@127.0.0.1:8095
ATTENDEE;CN="Tesserati FIDAL e UISP ed Enti di Promozione Sportiva riconos
 ciuti dal CONI.";ROLE=REQ-PARTICIPANT:Tesserati FIDAL e UISP ed Enti di Pr
 omozione Sportiva riconosciuti dal CONI.
CATEGORIES:Camminata e corsa campestre
CONTACT:Donatella - Circolo Ravone\, 051/3172982\, circolo.ravone@ausl.bol
 ogna.it
CREATED;VALUE=DATE-TIME:20100531T085253Z
DESCRIPTION:Gara competitiva e camminata ludico-motoria
LAST-MODIFIED;VALUE=DATE-TIME:20100615T064522Z
LOCATION:Bologna - Parco dei noci
URL:https://www.ausl.bologna.it/eventi/archivio/auslevent.2010-05-31.78640
 70381
END:VEVENT
END:VCALENDAR
