BEGIN:VCALENDAR
VERSION:2.0
PRODID:-//Plone.org//NONSGML plone.app.event//EN
X-WR-TIMEZONE:Europe/Rome
BEGIN:VEVENT
SUMMARY:PERCORSI DI AIUTO NELLA CURA DELLE PERSONE CON DISABILITÀ FISICHE
  O DIFFICOLTÀ COGNITIVE
DTSTART;VALUE=DATE-TIME:20100527T150000Z
DTEND;VALUE=DATE-TIME:20100527T180000Z
DTSTAMP;VALUE=DATE-TIME:20260420T132034Z
UID:ee904dce33fe8250efb287d5c3d6f57b@127.0.0.1:8095
CATEGORIES:Incontro
CONTACT:Vilma Cuscini\, 051/463033
CREATED;VALUE=DATE-TIME:20100527T075944Z
DESCRIPTION:Sostegno psicologico e protezione giuridica per affrontare e s
 uperare le difficoltà quotidiane
LAST-MODIFIED;VALUE=DATE-TIME:20100531T073957Z
LOCATION:San Lazzaro di Savena - Centro F. Malpensa
URL:https://www.ausl.bologna.it/eventi/archivio/auslevent.2010-05-27.94251
 03817
END:VEVENT
END:VCALENDAR
