BEGIN:VCALENDAR
VERSION:2.0
PRODID:-//Plone.org//NONSGML plone.app.event//EN
X-WR-TIMEZONE:Europe/Rome
BEGIN:VEVENT
SUMMARY:CURE PALLIATIVE “QUO VADIS?”
DTSTART;VALUE=DATE-TIME:20100527T073000Z
DTEND;VALUE=DATE-TIME:20100527T113000Z
DTSTAMP;VALUE=DATE-TIME:20260420T132112Z
UID:2ce6d68374b8bf73af26da48e0f26789@127.0.0.1:8095
ATTENDEE;CN="Amministratori pubblici, Sindaci, operatori sanità sociale, 
 responsabili politiche sociali –sanitarie, associazioni volontariato.";R
 OLE=REQ-PARTICIPANT:Amministratori pubblici, Sindaci, operatori sanità so
 ciale, responsabili politiche sociali –sanitarie, associazioni volontari
 ato.
CATEGORIES:Convegno
CONTACT:Roberto Marega\, 051 659 92 37\, roberto.marega@provincia.bologna.
 it
CREATED;VALUE=DATE-TIME:20100527T075030Z
LAST-MODIFIED;VALUE=DATE-TIME:20100531T073954Z
LOCATION:Bologna - Palazzo della Cultura e dei Congressi Sala Italia
URL:https://www.ausl.bologna.it/eventi/archivio/auslevent.2010-05-27.38003
 96993
END:VEVENT
END:VCALENDAR
