BEGIN:VCALENDAR
VERSION:2.0
PRODID:-//Plone.org//NONSGML plone.app.event//EN
X-WR-TIMEZONE:Europe/Rome
BEGIN:VEVENT
SUMMARY:Modelli operativi\, politiche d’integrazione\, progetti ed esper
 ienze\, nell’ambito dei percorsi d’inserimento lavorativo delle person
 e con disabilità psichica 
DTSTART;VALUE=DATE-TIME:20100528T120000Z
DTEND;VALUE=DATE-TIME:20100528T163000Z
DTSTAMP;VALUE=DATE-TIME:20260420T131930Z
UID:480c40e52a6a854e711f50fd04cdfef3@127.0.0.1:8095
CATEGORIES:Workshop
CONTACT:Vincenzo Trono\, +39 051 6584238/68\, vincenzo.trono@ausl.bologna.
 it
CREATED;VALUE=DATE-TIME:20100525T080116Z
LAST-MODIFIED;VALUE=DATE-TIME:20100531T074004Z
LOCATION:Bologna - Palazzo della Cultura e dei Congressi Sala Azzurra
URL:https://www.ausl.bologna.it/eventi/archivio/auslevent.2010-05-25.35338
 91909
END:VEVENT
END:VCALENDAR
