BEGIN:VCALENDAR
VERSION:2.0
PRODID:-//Plone.org//NONSGML plone.app.event//EN
X-WR-TIMEZONE:Europe/Rome
BEGIN:VEVENT
SUMMARY:Diventare genitori - Attaccamento e prima relazione
DTSTART;TZID=Europe/Rome;VALUE=DATE-TIME:20240327T170000
DTEND;TZID=Europe/Rome;VALUE=DATE-TIME:20240327T190000
DTSTAMP;VALUE=DATE-TIME:20260420T074808Z
UID:2de067fd5f7841ccb99191cb0e75270a@127.0.0.1:8095
CONTACT:Salaborsa\, 051 2194460
CREATED;VALUE=DATE-TIME:20240208T110949Z
DESCRIPTION:Alla Salaborsa di Bologna tornano gli incontri per prepararsi 
 all’arrivo di un figlio
LAST-MODIFIED;VALUE=DATE-TIME:20240912T094144Z
LOCATION:Salaborsa (Sala Tassinari)\, Piazza Nettuno 3\, Bologna
URL:https://www.ausl.bologna.it/eventi/archivio/attaccamento-e-prima-relaz
 ione
END:VEVENT
BEGIN:VTIMEZONE
TZID:Europe/Rome
X-LIC-LOCATION:Europe/Rome
BEGIN:STANDARD
DTSTART;VALUE=DATE-TIME:20231029T020000
TZNAME:CET
TZOFFSETFROM:+0200
TZOFFSETTO:+0100
END:STANDARD
END:VTIMEZONE
END:VCALENDAR
