BEGIN:VCALENDAR
VERSION:2.0
PRODID:-//Plone.org//NONSGML plone.app.event//EN
X-WR-TIMEZONE:Europe/Rome
BEGIN:VEVENT
SUMMARY:Ama vivente 2024
DTSTART;TZID=Europe/Rome;VALUE=DATE-TIME:20241012T150000
DTSTAMP;VALUE=DATE-TIME:20260420T062312Z
UID:d0d478df09e6437fa4ab662b04581771@127.0.0.1:8095
CONTACT:gruppi.ama@ausl.bologna.it\, https://www.ausl.bologna.it/cit/cp/ga
 ma/archivio-notizie/archivio-notizie-2024/ama-vivente-2024
CREATED;VALUE=DATE-TIME:20240911T104446Z
DESCRIPTION:Luoghi per condividere esperienze di vita. Appuntamento sabato
  12 ottobre 2024 dalle 15 a Casalecchio di Reno
LAST-MODIFIED;VALUE=DATE-TIME:20241128T093646Z
LOCATION:Casa della Conoscenza Via Porrettana 360 Casalecchio di Reno
URL:https://www.ausl.bologna.it/eventi/archivio/ama-vivente-2024
END:VEVENT
BEGIN:VTIMEZONE
TZID:Europe/Rome
X-LIC-LOCATION:Europe/Rome
BEGIN:DAYLIGHT
DTSTART;VALUE=DATE-TIME:20240331T030000
TZNAME:CEST
TZOFFSETFROM:+0100
TZOFFSETTO:+0200
END:DAYLIGHT
END:VTIMEZONE
END:VCALENDAR
