BEGIN:VCALENDAR
VERSION:2.0
PRODID:-//Plone.org//NONSGML plone.app.event//EN
X-WR-TIMEZONE:Europe/Rome
BEGIN:VEVENT
SUMMARY:Alzheimer Fest
DTSTART;TZID=Europe/Rome;VALUE=DATE-TIME:20240928T090000
DTEND;TZID=Europe/Rome;VALUE=DATE-TIME:20240928T183000
DTSTAMP;VALUE=DATE-TIME:20260420T012844Z
UID:432186ef61a649ec8d4e58bc7128f6a8@127.0.0.1:8095
CATEGORIES:Istituto Scienze Neurologiche
CREATED;VALUE=DATE-TIME:20240923T125636Z
DESCRIPTION:Eventi\, dibattiti e appuntamenti di intrattenimento e rifless
 ione tra musica\, medicina e arte
LAST-MODIFIED;VALUE=DATE-TIME:20241128T093713Z
LOCATION:Ospedale Bellaria\, Ospedale Sant'Orsola\, Palazzo d'Accursio e P
 iazza Minghetti
URL:https://www.ausl.bologna.it/eventi/archivio/alzheimer-fest
END:VEVENT
BEGIN:VTIMEZONE
TZID:Europe/Rome
X-LIC-LOCATION:Europe/Rome
BEGIN:DAYLIGHT
DTSTART;VALUE=DATE-TIME:20240331T030000
TZNAME:CEST
TZOFFSETFROM:+0100
TZOFFSETTO:+0200
END:DAYLIGHT
END:VTIMEZONE
END:VCALENDAR
