BEGIN:VCALENDAR
VERSION:2.0
PRODID:-//Plone.org//NONSGML plone.app.event//EN
X-WR-TIMEZONE:Europe/Rome
BEGIN:VEVENT
SUMMARY:Africa - Bologna: traiettorie\, mezzi\, destinazioni
DTSTART;TZID=Europe/Rome;VALUE=DATE-TIME:20230613T120000
DTEND;TZID=Europe/Rome;VALUE=DATE-TIME:20230613T160000
DTSTAMP;VALUE=DATE-TIME:20260420T093955Z
UID:97fe0b4525394ba59ac2d5eadceb5527@127.0.0.1:8095
CATEGORIES:Istituto Scienze Neurologiche
CREATED;VALUE=DATE-TIME:20230605T143718Z
DESCRIPTION:Organizzato dal gruppo di studio ""La SIN e i paesi in via di 
 sviluppo dell'Africa subsahariana"
LAST-MODIFIED;VALUE=DATE-TIME:20230825T062623Z
LOCATION:Biblioteca Storica - Ospedale Bellaria\, Padiglione Ingresso\, se
 condo piano
URL:https://www.ausl.bologna.it/eventi/archivio/africa-bologna-traiettorie
 -mezzi-destinazioni
END:VEVENT
BEGIN:VTIMEZONE
TZID:Europe/Rome
X-LIC-LOCATION:Europe/Rome
BEGIN:DAYLIGHT
DTSTART;VALUE=DATE-TIME:20230326T030000
TZNAME:CEST
TZOFFSETFROM:+0100
TZOFFSETTO:+0200
END:DAYLIGHT
END:VTIMEZONE
END:VCALENDAR
