BEGIN:VCALENDAR
VERSION:2.0
PRODID:-//Plone.org//NONSGML plone.app.event//EN
X-WR-TIMEZONE:Europe/Rome
BEGIN:VEVENT
SUMMARY:Adolescenza in equilibrio. Educazione\, psicologia e società a co
 nfronto
DTSTART;TZID=Europe/Rome;VALUE=DATE-TIME:20241217T170000
DTSTAMP;VALUE=DATE-TIME:20260420T045901Z
UID:bbb9c31479964dd78677c1d67fa8706f@127.0.0.1:8095
CONTACT:https://fondazionecarisbo.it/evento/convegno-adolescenza-in-equili
 brio/
CREATED;VALUE=DATE-TIME:20241213T142239Z
DESCRIPTION:Un evento dedicato al complesso mondo degli adolescenti\, per 
 esplorare il loro benessere da una prospettiva multidisciplinare
LAST-MODIFIED;VALUE=DATE-TIME:20250313T141148Z
LOCATION:IIS Belluzzi Fioravanti\, Via Giovanni Domenico Cassini 3 - Bolog
 na
URL:https://www.ausl.bologna.it/eventi/archivio/adolescenza-in-equilibrio-
 educazione-psicologia-e-societa-a-confronto
END:VEVENT
BEGIN:VTIMEZONE
TZID:Europe/Rome
X-LIC-LOCATION:Europe/Rome
BEGIN:STANDARD
DTSTART;VALUE=DATE-TIME:20241027T020000
TZNAME:CET
TZOFFSETFROM:+0200
TZOFFSETTO:+0100
END:STANDARD
END:VTIMEZONE
END:VCALENDAR
